BEGIN:VCALENDAR
VERSION:2.0
PRODID:-//Elsah, Alton Grace, Hartford UMC - ECPv6.15.12.2//NONSGML v1.0//EN
CALSCALE:GREGORIAN
METHOD:PUBLISH
X-WR-CALNAME:Elsah, Alton Grace, Hartford UMC
X-ORIGINAL-URL:https://elsahumc.org
X-WR-CALDESC:Events for Elsah, Alton Grace, Hartford UMC
REFRESH-INTERVAL;VALUE=DURATION:PT1H
X-Robots-Tag:noindex
X-PUBLISHED-TTL:PT1H
BEGIN:VTIMEZONE
TZID:America/Chicago
BEGIN:DAYLIGHT
TZOFFSETFROM:-0600
TZOFFSETTO:-0500
TZNAME:CDT
DTSTART:20250309T080000
END:DAYLIGHT
BEGIN:STANDARD
TZOFFSETFROM:-0500
TZOFFSETTO:-0600
TZNAME:CST
DTSTART:20251102T070000
END:STANDARD
BEGIN:DAYLIGHT
TZOFFSETFROM:-0600
TZOFFSETTO:-0500
TZNAME:CDT
DTSTART:20260308T080000
END:DAYLIGHT
BEGIN:STANDARD
TZOFFSETFROM:-0500
TZOFFSETTO:-0600
TZNAME:CST
DTSTART:20261101T070000
END:STANDARD
BEGIN:DAYLIGHT
TZOFFSETFROM:-0600
TZOFFSETTO:-0500
TZNAME:CDT
DTSTART:20270314T080000
END:DAYLIGHT
BEGIN:STANDARD
TZOFFSETFROM:-0500
TZOFFSETTO:-0600
TZNAME:CST
DTSTART:20271107T070000
END:STANDARD
END:VTIMEZONE
BEGIN:VEVENT
DTSTART;TZID=America/Chicago:20260426T083000
DTEND;TZID=America/Chicago:20260426T093000
DTSTAMP:20260423T060100
CREATED:20251204T170716Z
LAST-MODIFIED:20251204T170716Z
UID:10001133-1777192200-1777195800@elsahumc.org
SUMMARY:Sunday Service - Elsah
DESCRIPTION:Join us on Sundays at 8:30 AM at Elsah United Methodist Church. We always have an open seat.
URL:https://elsahumc.org/event/sunday-service-elsah/2026-04-26/
LOCATION:Elsah United Methodist Church\, 2 Valley Street\, Elsah\, IL\, 62028\, United States
ATTACH;FMTTYPE=image/jpeg:https://elsahumc.org/wp-content/uploads/2025/12/mass-service-thumb.jpg
END:VEVENT
BEGIN:VEVENT
DTSTART;TZID=America/Chicago:20260503T083000
DTEND;TZID=America/Chicago:20260503T093000
DTSTAMP:20260423T060100
CREATED:20251204T170716Z
LAST-MODIFIED:20251204T170716Z
UID:10001134-1777797000-1777800600@elsahumc.org
SUMMARY:Sunday Service - Elsah
DESCRIPTION:Join us on Sundays at 8:30 AM at Elsah United Methodist Church. We always have an open seat.
URL:https://elsahumc.org/event/sunday-service-elsah/2026-05-03/
LOCATION:Elsah United Methodist Church\, 2 Valley Street\, Elsah\, IL\, 62028\, United States
ATTACH;FMTTYPE=image/jpeg:https://elsahumc.org/wp-content/uploads/2025/12/mass-service-thumb.jpg
END:VEVENT
BEGIN:VEVENT
DTSTART;TZID=America/Chicago:20260510T083000
DTEND;TZID=America/Chicago:20260510T093000
DTSTAMP:20260423T060100
CREATED:20251204T170716Z
LAST-MODIFIED:20251204T170716Z
UID:10001135-1778401800-1778405400@elsahumc.org
SUMMARY:Sunday Service - Elsah
DESCRIPTION:Join us on Sundays at 8:30 AM at Elsah United Methodist Church. We always have an open seat.
URL:https://elsahumc.org/event/sunday-service-elsah/2026-05-10/
LOCATION:Elsah United Methodist Church\, 2 Valley Street\, Elsah\, IL\, 62028\, United States
ATTACH;FMTTYPE=image/jpeg:https://elsahumc.org/wp-content/uploads/2025/12/mass-service-thumb.jpg
END:VEVENT
BEGIN:VEVENT
DTSTART;TZID=America/Chicago:20260517T083000
DTEND;TZID=America/Chicago:20260517T093000
DTSTAMP:20260423T060100
CREATED:20251204T170716Z
LAST-MODIFIED:20251204T170716Z
UID:10001136-1779006600-1779010200@elsahumc.org
SUMMARY:Sunday Service - Elsah
DESCRIPTION:Join us on Sundays at 8:30 AM at Elsah United Methodist Church. We always have an open seat.
URL:https://elsahumc.org/event/sunday-service-elsah/2026-05-17/
LOCATION:Elsah United Methodist Church\, 2 Valley Street\, Elsah\, IL\, 62028\, United States
ATTACH;FMTTYPE=image/jpeg:https://elsahumc.org/wp-content/uploads/2025/12/mass-service-thumb.jpg
END:VEVENT
BEGIN:VEVENT
DTSTART;TZID=America/Chicago:20260524T083000
DTEND;TZID=America/Chicago:20260524T093000
DTSTAMP:20260423T060100
CREATED:20251204T170716Z
LAST-MODIFIED:20251204T170716Z
UID:10001137-1779611400-1779615000@elsahumc.org
SUMMARY:Sunday Service - Elsah
DESCRIPTION:Join us on Sundays at 8:30 AM at Elsah United Methodist Church. We always have an open seat.
URL:https://elsahumc.org/event/sunday-service-elsah/2026-05-24/
LOCATION:Elsah United Methodist Church\, 2 Valley Street\, Elsah\, IL\, 62028\, United States
ATTACH;FMTTYPE=image/jpeg:https://elsahumc.org/wp-content/uploads/2025/12/mass-service-thumb.jpg
END:VEVENT
BEGIN:VEVENT
DTSTART;TZID=America/Chicago:20260531T083000
DTEND;TZID=America/Chicago:20260531T093000
DTSTAMP:20260423T060100
CREATED:20251204T170716Z
LAST-MODIFIED:20251204T170716Z
UID:10001138-1780216200-1780219800@elsahumc.org
SUMMARY:Sunday Service - Elsah
DESCRIPTION:Join us on Sundays at 8:30 AM at Elsah United Methodist Church. We always have an open seat.
URL:https://elsahumc.org/event/sunday-service-elsah/2026-05-31/
LOCATION:Elsah United Methodist Church\, 2 Valley Street\, Elsah\, IL\, 62028\, United States
ATTACH;FMTTYPE=image/jpeg:https://elsahumc.org/wp-content/uploads/2025/12/mass-service-thumb.jpg
END:VEVENT
BEGIN:VEVENT
DTSTART;TZID=America/Chicago:20260607T083000
DTEND;TZID=America/Chicago:20260607T093000
DTSTAMP:20260423T060100
CREATED:20251204T170716Z
LAST-MODIFIED:20251204T170716Z
UID:10001139-1780821000-1780824600@elsahumc.org
SUMMARY:Sunday Service - Elsah
DESCRIPTION:Join us on Sundays at 8:30 AM at Elsah United Methodist Church. We always have an open seat.
URL:https://elsahumc.org/event/sunday-service-elsah/2026-06-07/
LOCATION:Elsah United Methodist Church\, 2 Valley Street\, Elsah\, IL\, 62028\, United States
ATTACH;FMTTYPE=image/jpeg:https://elsahumc.org/wp-content/uploads/2025/12/mass-service-thumb.jpg
END:VEVENT
BEGIN:VEVENT
DTSTART;TZID=America/Chicago:20260614T083000
DTEND;TZID=America/Chicago:20260614T093000
DTSTAMP:20260423T060100
CREATED:20251204T170716Z
LAST-MODIFIED:20251204T170716Z
UID:10001140-1781425800-1781429400@elsahumc.org
SUMMARY:Sunday Service - Elsah
DESCRIPTION:Join us on Sundays at 8:30 AM at Elsah United Methodist Church. We always have an open seat.
URL:https://elsahumc.org/event/sunday-service-elsah/2026-06-14/
LOCATION:Elsah United Methodist Church\, 2 Valley Street\, Elsah\, IL\, 62028\, United States
ATTACH;FMTTYPE=image/jpeg:https://elsahumc.org/wp-content/uploads/2025/12/mass-service-thumb.jpg
END:VEVENT
BEGIN:VEVENT
DTSTART;TZID=America/Chicago:20260621T083000
DTEND;TZID=America/Chicago:20260621T093000
DTSTAMP:20260423T060100
CREATED:20251204T170716Z
LAST-MODIFIED:20251204T170716Z
UID:10001141-1782030600-1782034200@elsahumc.org
SUMMARY:Sunday Service - Elsah
DESCRIPTION:Join us on Sundays at 8:30 AM at Elsah United Methodist Church. We always have an open seat.
URL:https://elsahumc.org/event/sunday-service-elsah/2026-06-21/
LOCATION:Elsah United Methodist Church\, 2 Valley Street\, Elsah\, IL\, 62028\, United States
ATTACH;FMTTYPE=image/jpeg:https://elsahumc.org/wp-content/uploads/2025/12/mass-service-thumb.jpg
END:VEVENT
BEGIN:VEVENT
DTSTART;TZID=America/Chicago:20260628T083000
DTEND;TZID=America/Chicago:20260628T093000
DTSTAMP:20260423T060100
CREATED:20251204T170716Z
LAST-MODIFIED:20251204T170716Z
UID:10001142-1782635400-1782639000@elsahumc.org
SUMMARY:Sunday Service - Elsah
DESCRIPTION:Join us on Sundays at 8:30 AM at Elsah United Methodist Church. We always have an open seat.
URL:https://elsahumc.org/event/sunday-service-elsah/2026-06-28/
LOCATION:Elsah United Methodist Church\, 2 Valley Street\, Elsah\, IL\, 62028\, United States
ATTACH;FMTTYPE=image/jpeg:https://elsahumc.org/wp-content/uploads/2025/12/mass-service-thumb.jpg
END:VEVENT
BEGIN:VEVENT
DTSTART;TZID=America/Chicago:20260705T083000
DTEND;TZID=America/Chicago:20260705T093000
DTSTAMP:20260423T060100
CREATED:20251204T170716Z
LAST-MODIFIED:20251204T170716Z
UID:10001143-1783240200-1783243800@elsahumc.org
SUMMARY:Sunday Service - Elsah
DESCRIPTION:Join us on Sundays at 8:30 AM at Elsah United Methodist Church. We always have an open seat.
URL:https://elsahumc.org/event/sunday-service-elsah/2026-07-05/
LOCATION:Elsah United Methodist Church\, 2 Valley Street\, Elsah\, IL\, 62028\, United States
ATTACH;FMTTYPE=image/jpeg:https://elsahumc.org/wp-content/uploads/2025/12/mass-service-thumb.jpg
END:VEVENT
BEGIN:VEVENT
DTSTART;TZID=America/Chicago:20260712T083000
DTEND;TZID=America/Chicago:20260712T093000
DTSTAMP:20260423T060100
CREATED:20251204T170716Z
LAST-MODIFIED:20251204T170716Z
UID:10001144-1783845000-1783848600@elsahumc.org
SUMMARY:Sunday Service - Elsah
DESCRIPTION:Join us on Sundays at 8:30 AM at Elsah United Methodist Church. We always have an open seat.
URL:https://elsahumc.org/event/sunday-service-elsah/2026-07-12/
LOCATION:Elsah United Methodist Church\, 2 Valley Street\, Elsah\, IL\, 62028\, United States
ATTACH;FMTTYPE=image/jpeg:https://elsahumc.org/wp-content/uploads/2025/12/mass-service-thumb.jpg
END:VEVENT
BEGIN:VEVENT
DTSTART;TZID=America/Chicago:20260719T083000
DTEND;TZID=America/Chicago:20260719T093000
DTSTAMP:20260423T060100
CREATED:20251204T170716Z
LAST-MODIFIED:20251204T170716Z
UID:10001145-1784449800-1784453400@elsahumc.org
SUMMARY:Sunday Service - Elsah
DESCRIPTION:Join us on Sundays at 8:30 AM at Elsah United Methodist Church. We always have an open seat.
URL:https://elsahumc.org/event/sunday-service-elsah/2026-07-19/
LOCATION:Elsah United Methodist Church\, 2 Valley Street\, Elsah\, IL\, 62028\, United States
ATTACH;FMTTYPE=image/jpeg:https://elsahumc.org/wp-content/uploads/2025/12/mass-service-thumb.jpg
END:VEVENT
BEGIN:VEVENT
DTSTART;TZID=America/Chicago:20260726T083000
DTEND;TZID=America/Chicago:20260726T093000
DTSTAMP:20260423T060100
CREATED:20251204T170716Z
LAST-MODIFIED:20251204T170716Z
UID:10001146-1785054600-1785058200@elsahumc.org
SUMMARY:Sunday Service - Elsah
DESCRIPTION:Join us on Sundays at 8:30 AM at Elsah United Methodist Church. We always have an open seat.
URL:https://elsahumc.org/event/sunday-service-elsah/2026-07-26/
LOCATION:Elsah United Methodist Church\, 2 Valley Street\, Elsah\, IL\, 62028\, United States
ATTACH;FMTTYPE=image/jpeg:https://elsahumc.org/wp-content/uploads/2025/12/mass-service-thumb.jpg
END:VEVENT
BEGIN:VEVENT
DTSTART;TZID=America/Chicago:20260802T083000
DTEND;TZID=America/Chicago:20260802T093000
DTSTAMP:20260423T060100
CREATED:20251204T170716Z
LAST-MODIFIED:20251204T170716Z
UID:10001147-1785659400-1785663000@elsahumc.org
SUMMARY:Sunday Service - Elsah
DESCRIPTION:Join us on Sundays at 8:30 AM at Elsah United Methodist Church. We always have an open seat.
URL:https://elsahumc.org/event/sunday-service-elsah/2026-08-02/
LOCATION:Elsah United Methodist Church\, 2 Valley Street\, Elsah\, IL\, 62028\, United States
ATTACH;FMTTYPE=image/jpeg:https://elsahumc.org/wp-content/uploads/2025/12/mass-service-thumb.jpg
END:VEVENT
BEGIN:VEVENT
DTSTART;TZID=America/Chicago:20260809T083000
DTEND;TZID=America/Chicago:20260809T093000
DTSTAMP:20260423T060100
CREATED:20251204T170716Z
LAST-MODIFIED:20251204T170716Z
UID:10001148-1786264200-1786267800@elsahumc.org
SUMMARY:Sunday Service - Elsah
DESCRIPTION:Join us on Sundays at 8:30 AM at Elsah United Methodist Church. We always have an open seat.
URL:https://elsahumc.org/event/sunday-service-elsah/2026-08-09/
LOCATION:Elsah United Methodist Church\, 2 Valley Street\, Elsah\, IL\, 62028\, United States
ATTACH;FMTTYPE=image/jpeg:https://elsahumc.org/wp-content/uploads/2025/12/mass-service-thumb.jpg
END:VEVENT
BEGIN:VEVENT
DTSTART;TZID=America/Chicago:20260816T083000
DTEND;TZID=America/Chicago:20260816T093000
DTSTAMP:20260423T060100
CREATED:20251204T170716Z
LAST-MODIFIED:20251204T170716Z
UID:10001149-1786869000-1786872600@elsahumc.org
SUMMARY:Sunday Service - Elsah
DESCRIPTION:Join us on Sundays at 8:30 AM at Elsah United Methodist Church. We always have an open seat.
URL:https://elsahumc.org/event/sunday-service-elsah/2026-08-16/
LOCATION:Elsah United Methodist Church\, 2 Valley Street\, Elsah\, IL\, 62028\, United States
ATTACH;FMTTYPE=image/jpeg:https://elsahumc.org/wp-content/uploads/2025/12/mass-service-thumb.jpg
END:VEVENT
BEGIN:VEVENT
DTSTART;TZID=America/Chicago:20260823T083000
DTEND;TZID=America/Chicago:20260823T093000
DTSTAMP:20260423T060100
CREATED:20251204T170716Z
LAST-MODIFIED:20251204T170716Z
UID:10001150-1787473800-1787477400@elsahumc.org
SUMMARY:Sunday Service - Elsah
DESCRIPTION:Join us on Sundays at 8:30 AM at Elsah United Methodist Church. We always have an open seat.
URL:https://elsahumc.org/event/sunday-service-elsah/2026-08-23/
LOCATION:Elsah United Methodist Church\, 2 Valley Street\, Elsah\, IL\, 62028\, United States
ATTACH;FMTTYPE=image/jpeg:https://elsahumc.org/wp-content/uploads/2025/12/mass-service-thumb.jpg
END:VEVENT
BEGIN:VEVENT
DTSTART;TZID=America/Chicago:20260830T083000
DTEND;TZID=America/Chicago:20260830T093000
DTSTAMP:20260423T060100
CREATED:20251204T170716Z
LAST-MODIFIED:20251204T170716Z
UID:10001151-1788078600-1788082200@elsahumc.org
SUMMARY:Sunday Service - Elsah
DESCRIPTION:Join us on Sundays at 8:30 AM at Elsah United Methodist Church. We always have an open seat.
URL:https://elsahumc.org/event/sunday-service-elsah/2026-08-30/
LOCATION:Elsah United Methodist Church\, 2 Valley Street\, Elsah\, IL\, 62028\, United States
ATTACH;FMTTYPE=image/jpeg:https://elsahumc.org/wp-content/uploads/2025/12/mass-service-thumb.jpg
END:VEVENT
BEGIN:VEVENT
DTSTART;TZID=America/Chicago:20260906T083000
DTEND;TZID=America/Chicago:20260906T093000
DTSTAMP:20260423T060100
CREATED:20251204T170716Z
LAST-MODIFIED:20251204T170716Z
UID:10001152-1788683400-1788687000@elsahumc.org
SUMMARY:Sunday Service - Elsah
DESCRIPTION:Join us on Sundays at 8:30 AM at Elsah United Methodist Church. We always have an open seat.
URL:https://elsahumc.org/event/sunday-service-elsah/2026-09-06/
LOCATION:Elsah United Methodist Church\, 2 Valley Street\, Elsah\, IL\, 62028\, United States
ATTACH;FMTTYPE=image/jpeg:https://elsahumc.org/wp-content/uploads/2025/12/mass-service-thumb.jpg
END:VEVENT
BEGIN:VEVENT
DTSTART;TZID=America/Chicago:20260913T083000
DTEND;TZID=America/Chicago:20260913T093000
DTSTAMP:20260423T060100
CREATED:20251204T170716Z
LAST-MODIFIED:20251204T170716Z
UID:10001153-1789288200-1789291800@elsahumc.org
SUMMARY:Sunday Service - Elsah
DESCRIPTION:Join us on Sundays at 8:30 AM at Elsah United Methodist Church. We always have an open seat.
URL:https://elsahumc.org/event/sunday-service-elsah/2026-09-13/
LOCATION:Elsah United Methodist Church\, 2 Valley Street\, Elsah\, IL\, 62028\, United States
ATTACH;FMTTYPE=image/jpeg:https://elsahumc.org/wp-content/uploads/2025/12/mass-service-thumb.jpg
END:VEVENT
BEGIN:VEVENT
DTSTART;TZID=America/Chicago:20260920T083000
DTEND;TZID=America/Chicago:20260920T093000
DTSTAMP:20260423T060100
CREATED:20251204T170716Z
LAST-MODIFIED:20251204T170716Z
UID:10001154-1789893000-1789896600@elsahumc.org
SUMMARY:Sunday Service - Elsah
DESCRIPTION:Join us on Sundays at 8:30 AM at Elsah United Methodist Church. We always have an open seat.
URL:https://elsahumc.org/event/sunday-service-elsah/2026-09-20/
LOCATION:Elsah United Methodist Church\, 2 Valley Street\, Elsah\, IL\, 62028\, United States
ATTACH;FMTTYPE=image/jpeg:https://elsahumc.org/wp-content/uploads/2025/12/mass-service-thumb.jpg
END:VEVENT
BEGIN:VEVENT
DTSTART;TZID=America/Chicago:20260927T083000
DTEND;TZID=America/Chicago:20260927T093000
DTSTAMP:20260423T060100
CREATED:20251204T170716Z
LAST-MODIFIED:20251204T170716Z
UID:10001155-1790497800-1790501400@elsahumc.org
SUMMARY:Sunday Service - Elsah
DESCRIPTION:Join us on Sundays at 8:30 AM at Elsah United Methodist Church. We always have an open seat.
URL:https://elsahumc.org/event/sunday-service-elsah/2026-09-27/
LOCATION:Elsah United Methodist Church\, 2 Valley Street\, Elsah\, IL\, 62028\, United States
ATTACH;FMTTYPE=image/jpeg:https://elsahumc.org/wp-content/uploads/2025/12/mass-service-thumb.jpg
END:VEVENT
BEGIN:VEVENT
DTSTART;TZID=America/Chicago:20261004T083000
DTEND;TZID=America/Chicago:20261004T093000
DTSTAMP:20260423T060100
CREATED:20251204T170716Z
LAST-MODIFIED:20251204T170716Z
UID:10001156-1791102600-1791106200@elsahumc.org
SUMMARY:Sunday Service - Elsah
DESCRIPTION:Join us on Sundays at 8:30 AM at Elsah United Methodist Church. We always have an open seat.
URL:https://elsahumc.org/event/sunday-service-elsah/2026-10-04/
LOCATION:Elsah United Methodist Church\, 2 Valley Street\, Elsah\, IL\, 62028\, United States
ATTACH;FMTTYPE=image/jpeg:https://elsahumc.org/wp-content/uploads/2025/12/mass-service-thumb.jpg
END:VEVENT
BEGIN:VEVENT
DTSTART;TZID=America/Chicago:20261011T083000
DTEND;TZID=America/Chicago:20261011T093000
DTSTAMP:20260423T060100
CREATED:20251204T170716Z
LAST-MODIFIED:20251204T170716Z
UID:10001157-1791707400-1791711000@elsahumc.org
SUMMARY:Sunday Service - Elsah
DESCRIPTION:Join us on Sundays at 8:30 AM at Elsah United Methodist Church. We always have an open seat.
URL:https://elsahumc.org/event/sunday-service-elsah/2026-10-11/
LOCATION:Elsah United Methodist Church\, 2 Valley Street\, Elsah\, IL\, 62028\, United States
ATTACH;FMTTYPE=image/jpeg:https://elsahumc.org/wp-content/uploads/2025/12/mass-service-thumb.jpg
END:VEVENT
BEGIN:VEVENT
DTSTART;TZID=America/Chicago:20261018T083000
DTEND;TZID=America/Chicago:20261018T093000
DTSTAMP:20260423T060100
CREATED:20251204T170716Z
LAST-MODIFIED:20251204T170716Z
UID:10001158-1792312200-1792315800@elsahumc.org
SUMMARY:Sunday Service - Elsah
DESCRIPTION:Join us on Sundays at 8:30 AM at Elsah United Methodist Church. We always have an open seat.
URL:https://elsahumc.org/event/sunday-service-elsah/2026-10-18/
LOCATION:Elsah United Methodist Church\, 2 Valley Street\, Elsah\, IL\, 62028\, United States
ATTACH;FMTTYPE=image/jpeg:https://elsahumc.org/wp-content/uploads/2025/12/mass-service-thumb.jpg
END:VEVENT
BEGIN:VEVENT
DTSTART;TZID=America/Chicago:20261025T083000
DTEND;TZID=America/Chicago:20261025T093000
DTSTAMP:20260423T060100
CREATED:20251204T170716Z
LAST-MODIFIED:20251204T170716Z
UID:10001159-1792917000-1792920600@elsahumc.org
SUMMARY:Sunday Service - Elsah
DESCRIPTION:Join us on Sundays at 8:30 AM at Elsah United Methodist Church. We always have an open seat.
URL:https://elsahumc.org/event/sunday-service-elsah/2026-10-25/
LOCATION:Elsah United Methodist Church\, 2 Valley Street\, Elsah\, IL\, 62028\, United States
ATTACH;FMTTYPE=image/jpeg:https://elsahumc.org/wp-content/uploads/2025/12/mass-service-thumb.jpg
END:VEVENT
BEGIN:VEVENT
DTSTART;TZID=America/Chicago:20261101T083000
DTEND;TZID=America/Chicago:20261101T093000
DTSTAMP:20260423T060100
CREATED:20251204T170716Z
LAST-MODIFIED:20251204T170716Z
UID:10001160-1793521800-1793525400@elsahumc.org
SUMMARY:Sunday Service - Elsah
DESCRIPTION:Join us on Sundays at 8:30 AM at Elsah United Methodist Church. We always have an open seat.
URL:https://elsahumc.org/event/sunday-service-elsah/2026-11-01/
LOCATION:Elsah United Methodist Church\, 2 Valley Street\, Elsah\, IL\, 62028\, United States
ATTACH;FMTTYPE=image/jpeg:https://elsahumc.org/wp-content/uploads/2025/12/mass-service-thumb.jpg
END:VEVENT
BEGIN:VEVENT
DTSTART;TZID=America/Chicago:20261108T083000
DTEND;TZID=America/Chicago:20261108T093000
DTSTAMP:20260423T060100
CREATED:20251204T170716Z
LAST-MODIFIED:20251204T170716Z
UID:10001161-1794126600-1794130200@elsahumc.org
SUMMARY:Sunday Service - Elsah
DESCRIPTION:Join us on Sundays at 8:30 AM at Elsah United Methodist Church. We always have an open seat.
URL:https://elsahumc.org/event/sunday-service-elsah/2026-11-08/
LOCATION:Elsah United Methodist Church\, 2 Valley Street\, Elsah\, IL\, 62028\, United States
ATTACH;FMTTYPE=image/jpeg:https://elsahumc.org/wp-content/uploads/2025/12/mass-service-thumb.jpg
END:VEVENT
BEGIN:VEVENT
DTSTART;TZID=America/Chicago:20261115T083000
DTEND;TZID=America/Chicago:20261115T093000
DTSTAMP:20260423T060100
CREATED:20251204T170716Z
LAST-MODIFIED:20251204T170716Z
UID:10001162-1794731400-1794735000@elsahumc.org
SUMMARY:Sunday Service - Elsah
DESCRIPTION:Join us on Sundays at 8:30 AM at Elsah United Methodist Church. We always have an open seat.
URL:https://elsahumc.org/event/sunday-service-elsah/2026-11-15/
LOCATION:Elsah United Methodist Church\, 2 Valley Street\, Elsah\, IL\, 62028\, United States
ATTACH;FMTTYPE=image/jpeg:https://elsahumc.org/wp-content/uploads/2025/12/mass-service-thumb.jpg
END:VEVENT
END:VCALENDAR