BEGIN:VCALENDAR
VERSION:2.0
PRODID:-//Elsah, Alton Grace, Hartford UMC - ECPv6.15.12.2//NONSGML v1.0//EN
CALSCALE:GREGORIAN
METHOD:PUBLISH
X-WR-CALNAME:Elsah, Alton Grace, Hartford UMC
X-ORIGINAL-URL:https://elsahumc.org
X-WR-CALDESC:Events for Elsah, Alton Grace, Hartford UMC
REFRESH-INTERVAL;VALUE=DURATION:PT1H
X-Robots-Tag:noindex
X-PUBLISHED-TTL:PT1H
BEGIN:VTIMEZONE
TZID:America/Chicago
BEGIN:DAYLIGHT
TZOFFSETFROM:-0600
TZOFFSETTO:-0500
TZNAME:CDT
DTSTART:20250309T080000
END:DAYLIGHT
BEGIN:STANDARD
TZOFFSETFROM:-0500
TZOFFSETTO:-0600
TZNAME:CST
DTSTART:20251102T070000
END:STANDARD
BEGIN:DAYLIGHT
TZOFFSETFROM:-0600
TZOFFSETTO:-0500
TZNAME:CDT
DTSTART:20260308T080000
END:DAYLIGHT
BEGIN:STANDARD
TZOFFSETFROM:-0500
TZOFFSETTO:-0600
TZNAME:CST
DTSTART:20261101T070000
END:STANDARD
BEGIN:DAYLIGHT
TZOFFSETFROM:-0600
TZOFFSETTO:-0500
TZNAME:CDT
DTSTART:20270314T080000
END:DAYLIGHT
BEGIN:STANDARD
TZOFFSETFROM:-0500
TZOFFSETTO:-0600
TZNAME:CST
DTSTART:20271107T070000
END:STANDARD
END:VTIMEZONE
BEGIN:VEVENT
DTSTART;TZID=America/Chicago:20260208T111500
DTEND;TZID=America/Chicago:20260208T121500
DTSTAMP:20260205T174846
CREATED:20251204T171619Z
LAST-MODIFIED:20251204T171718Z
UID:10001644-1770549300-1770552900@elsahumc.org
SUMMARY:Sunday Service - Hartford
DESCRIPTION:Join us on Sundays at 11:15 AM at Hartford United Methodist Church. We always have an open seat.
URL:https://elsahumc.org/event/sunday-service-hartford/2026-02-08/
LOCATION:Hartford United Methodist Church\, 405 S Delmar Avenue\, Hartford\, 62048\, United States
ATTACH;FMTTYPE=image/jpeg:https://elsahumc.org/wp-content/uploads/2025/12/mass-service-thumb.jpg
END:VEVENT
BEGIN:VEVENT
DTSTART;TZID=America/Chicago:20260211T103000
DTEND;TZID=America/Chicago:20260211T113000
DTSTAMP:20260205T174846
CREATED:20250828T154757Z
LAST-MODIFIED:20250828T161502Z
UID:10000552-1770805800-1770809400@elsahumc.org
SUMMARY:Adult Bible Study - Hartford
DESCRIPTION:Join us on Wednesdays at 10:30 AM at Hartford United Methodist Church as we enjoy fellowship and the in-depth study of the books of the Bible\, including a preview of the upcoming Sunday Sermon. We always have an open seat.
URL:https://elsahumc.org/event/adult-bible-study-hartford/2026-02-11/
LOCATION:Hartford United Methodist Church\, 405 S Delmar Avenue\, Hartford\, 62048\, United States
ATTACH;FMTTYPE=image/jpeg:https://elsahumc.org/wp-content/uploads/2025/08/bible-study-atl-thumb.jpg
END:VEVENT
BEGIN:VEVENT
DTSTART;TZID=America/Chicago:20260215T111500
DTEND;TZID=America/Chicago:20260215T121500
DTSTAMP:20260205T174846
CREATED:20251204T171619Z
LAST-MODIFIED:20251204T171718Z
UID:10001645-1771154100-1771157700@elsahumc.org
SUMMARY:Sunday Service - Hartford
DESCRIPTION:Join us on Sundays at 11:15 AM at Hartford United Methodist Church. We always have an open seat.
URL:https://elsahumc.org/event/sunday-service-hartford/2026-02-15/
LOCATION:Hartford United Methodist Church\, 405 S Delmar Avenue\, Hartford\, 62048\, United States
ATTACH;FMTTYPE=image/jpeg:https://elsahumc.org/wp-content/uploads/2025/12/mass-service-thumb.jpg
END:VEVENT
BEGIN:VEVENT
DTSTART;TZID=America/Chicago:20260218T103000
DTEND;TZID=America/Chicago:20260218T113000
DTSTAMP:20260205T174846
CREATED:20250828T154757Z
LAST-MODIFIED:20250828T161502Z
UID:10000553-1771410600-1771414200@elsahumc.org
SUMMARY:Adult Bible Study - Hartford
DESCRIPTION:Join us on Wednesdays at 10:30 AM at Hartford United Methodist Church as we enjoy fellowship and the in-depth study of the books of the Bible\, including a preview of the upcoming Sunday Sermon. We always have an open seat.
URL:https://elsahumc.org/event/adult-bible-study-hartford/2026-02-18/
LOCATION:Hartford United Methodist Church\, 405 S Delmar Avenue\, Hartford\, 62048\, United States
ATTACH;FMTTYPE=image/jpeg:https://elsahumc.org/wp-content/uploads/2025/08/bible-study-atl-thumb.jpg
END:VEVENT
BEGIN:VEVENT
DTSTART;TZID=America/Chicago:20260222T111500
DTEND;TZID=America/Chicago:20260222T121500
DTSTAMP:20260205T174846
CREATED:20251204T171619Z
LAST-MODIFIED:20251204T171718Z
UID:10001646-1771758900-1771762500@elsahumc.org
SUMMARY:Sunday Service - Hartford
DESCRIPTION:Join us on Sundays at 11:15 AM at Hartford United Methodist Church. We always have an open seat.
URL:https://elsahumc.org/event/sunday-service-hartford/2026-02-22/
LOCATION:Hartford United Methodist Church\, 405 S Delmar Avenue\, Hartford\, 62048\, United States
ATTACH;FMTTYPE=image/jpeg:https://elsahumc.org/wp-content/uploads/2025/12/mass-service-thumb.jpg
END:VEVENT
BEGIN:VEVENT
DTSTART;TZID=America/Chicago:20260225T103000
DTEND;TZID=America/Chicago:20260225T113000
DTSTAMP:20260205T174846
CREATED:20250828T154757Z
LAST-MODIFIED:20250828T161502Z
UID:10000554-1772015400-1772019000@elsahumc.org
SUMMARY:Adult Bible Study - Hartford
DESCRIPTION:Join us on Wednesdays at 10:30 AM at Hartford United Methodist Church as we enjoy fellowship and the in-depth study of the books of the Bible\, including a preview of the upcoming Sunday Sermon. We always have an open seat.
URL:https://elsahumc.org/event/adult-bible-study-hartford/2026-02-25/
LOCATION:Hartford United Methodist Church\, 405 S Delmar Avenue\, Hartford\, 62048\, United States
ATTACH;FMTTYPE=image/jpeg:https://elsahumc.org/wp-content/uploads/2025/08/bible-study-atl-thumb.jpg
END:VEVENT
BEGIN:VEVENT
DTSTART;TZID=America/Chicago:20260301T111500
DTEND;TZID=America/Chicago:20260301T121500
DTSTAMP:20260205T174846
CREATED:20251204T171619Z
LAST-MODIFIED:20251204T171718Z
UID:10001647-1772363700-1772367300@elsahumc.org
SUMMARY:Sunday Service - Hartford
DESCRIPTION:Join us on Sundays at 11:15 AM at Hartford United Methodist Church. We always have an open seat.
URL:https://elsahumc.org/event/sunday-service-hartford/2026-03-01/
LOCATION:Hartford United Methodist Church\, 405 S Delmar Avenue\, Hartford\, 62048\, United States
ATTACH;FMTTYPE=image/jpeg:https://elsahumc.org/wp-content/uploads/2025/12/mass-service-thumb.jpg
END:VEVENT
BEGIN:VEVENT
DTSTART;TZID=America/Chicago:20260304T103000
DTEND;TZID=America/Chicago:20260304T113000
DTSTAMP:20260205T174846
CREATED:20250828T154757Z
LAST-MODIFIED:20250828T161502Z
UID:10000555-1772620200-1772623800@elsahumc.org
SUMMARY:Adult Bible Study - Hartford
DESCRIPTION:Join us on Wednesdays at 10:30 AM at Hartford United Methodist Church as we enjoy fellowship and the in-depth study of the books of the Bible\, including a preview of the upcoming Sunday Sermon. We always have an open seat.
URL:https://elsahumc.org/event/adult-bible-study-hartford/2026-03-04/
LOCATION:Hartford United Methodist Church\, 405 S Delmar Avenue\, Hartford\, 62048\, United States
ATTACH;FMTTYPE=image/jpeg:https://elsahumc.org/wp-content/uploads/2025/08/bible-study-atl-thumb.jpg
END:VEVENT
BEGIN:VEVENT
DTSTART;TZID=America/Chicago:20260308T111500
DTEND;TZID=America/Chicago:20260308T121500
DTSTAMP:20260205T174846
CREATED:20251204T171619Z
LAST-MODIFIED:20251204T171718Z
UID:10001648-1772968500-1772972100@elsahumc.org
SUMMARY:Sunday Service - Hartford
DESCRIPTION:Join us on Sundays at 11:15 AM at Hartford United Methodist Church. We always have an open seat.
URL:https://elsahumc.org/event/sunday-service-hartford/2026-03-08/
LOCATION:Hartford United Methodist Church\, 405 S Delmar Avenue\, Hartford\, 62048\, United States
ATTACH;FMTTYPE=image/jpeg:https://elsahumc.org/wp-content/uploads/2025/12/mass-service-thumb.jpg
END:VEVENT
BEGIN:VEVENT
DTSTART;TZID=America/Chicago:20260311T103000
DTEND;TZID=America/Chicago:20260311T113000
DTSTAMP:20260205T174846
CREATED:20250828T154757Z
LAST-MODIFIED:20250828T161502Z
UID:10000556-1773225000-1773228600@elsahumc.org
SUMMARY:Adult Bible Study - Hartford
DESCRIPTION:Join us on Wednesdays at 10:30 AM at Hartford United Methodist Church as we enjoy fellowship and the in-depth study of the books of the Bible\, including a preview of the upcoming Sunday Sermon. We always have an open seat.
URL:https://elsahumc.org/event/adult-bible-study-hartford/2026-03-11/
LOCATION:Hartford United Methodist Church\, 405 S Delmar Avenue\, Hartford\, 62048\, United States
ATTACH;FMTTYPE=image/jpeg:https://elsahumc.org/wp-content/uploads/2025/08/bible-study-atl-thumb.jpg
END:VEVENT
BEGIN:VEVENT
DTSTART;TZID=America/Chicago:20260315T111500
DTEND;TZID=America/Chicago:20260315T121500
DTSTAMP:20260205T174846
CREATED:20251204T171619Z
LAST-MODIFIED:20251204T171718Z
UID:10001649-1773573300-1773576900@elsahumc.org
SUMMARY:Sunday Service - Hartford
DESCRIPTION:Join us on Sundays at 11:15 AM at Hartford United Methodist Church. We always have an open seat.
URL:https://elsahumc.org/event/sunday-service-hartford/2026-03-15/
LOCATION:Hartford United Methodist Church\, 405 S Delmar Avenue\, Hartford\, 62048\, United States
ATTACH;FMTTYPE=image/jpeg:https://elsahumc.org/wp-content/uploads/2025/12/mass-service-thumb.jpg
END:VEVENT
BEGIN:VEVENT
DTSTART;TZID=America/Chicago:20260318T103000
DTEND;TZID=America/Chicago:20260318T113000
DTSTAMP:20260205T174846
CREATED:20250828T154757Z
LAST-MODIFIED:20250828T161502Z
UID:10000557-1773829800-1773833400@elsahumc.org
SUMMARY:Adult Bible Study - Hartford
DESCRIPTION:Join us on Wednesdays at 10:30 AM at Hartford United Methodist Church as we enjoy fellowship and the in-depth study of the books of the Bible\, including a preview of the upcoming Sunday Sermon. We always have an open seat.
URL:https://elsahumc.org/event/adult-bible-study-hartford/2026-03-18/
LOCATION:Hartford United Methodist Church\, 405 S Delmar Avenue\, Hartford\, 62048\, United States
ATTACH;FMTTYPE=image/jpeg:https://elsahumc.org/wp-content/uploads/2025/08/bible-study-atl-thumb.jpg
END:VEVENT
BEGIN:VEVENT
DTSTART;TZID=America/Chicago:20260322T111500
DTEND;TZID=America/Chicago:20260322T121500
DTSTAMP:20260205T174846
CREATED:20251204T171619Z
LAST-MODIFIED:20251204T171718Z
UID:10001650-1774178100-1774181700@elsahumc.org
SUMMARY:Sunday Service - Hartford
DESCRIPTION:Join us on Sundays at 11:15 AM at Hartford United Methodist Church. We always have an open seat.
URL:https://elsahumc.org/event/sunday-service-hartford/2026-03-22/
LOCATION:Hartford United Methodist Church\, 405 S Delmar Avenue\, Hartford\, 62048\, United States
ATTACH;FMTTYPE=image/jpeg:https://elsahumc.org/wp-content/uploads/2025/12/mass-service-thumb.jpg
END:VEVENT
BEGIN:VEVENT
DTSTART;TZID=America/Chicago:20260325T103000
DTEND;TZID=America/Chicago:20260325T113000
DTSTAMP:20260205T174846
CREATED:20250828T154757Z
LAST-MODIFIED:20250828T161502Z
UID:10000558-1774434600-1774438200@elsahumc.org
SUMMARY:Adult Bible Study - Hartford
DESCRIPTION:Join us on Wednesdays at 10:30 AM at Hartford United Methodist Church as we enjoy fellowship and the in-depth study of the books of the Bible\, including a preview of the upcoming Sunday Sermon. We always have an open seat.
URL:https://elsahumc.org/event/adult-bible-study-hartford/2026-03-25/
LOCATION:Hartford United Methodist Church\, 405 S Delmar Avenue\, Hartford\, 62048\, United States
ATTACH;FMTTYPE=image/jpeg:https://elsahumc.org/wp-content/uploads/2025/08/bible-study-atl-thumb.jpg
END:VEVENT
BEGIN:VEVENT
DTSTART;TZID=America/Chicago:20260329T111500
DTEND;TZID=America/Chicago:20260329T121500
DTSTAMP:20260205T174846
CREATED:20251204T171619Z
LAST-MODIFIED:20251204T171718Z
UID:10001651-1774782900-1774786500@elsahumc.org
SUMMARY:Sunday Service - Hartford
DESCRIPTION:Join us on Sundays at 11:15 AM at Hartford United Methodist Church. We always have an open seat.
URL:https://elsahumc.org/event/sunday-service-hartford/2026-03-29/
LOCATION:Hartford United Methodist Church\, 405 S Delmar Avenue\, Hartford\, 62048\, United States
ATTACH;FMTTYPE=image/jpeg:https://elsahumc.org/wp-content/uploads/2025/12/mass-service-thumb.jpg
END:VEVENT
BEGIN:VEVENT
DTSTART;TZID=America/Chicago:20260401T103000
DTEND;TZID=America/Chicago:20260401T113000
DTSTAMP:20260205T174846
CREATED:20250828T154757Z
LAST-MODIFIED:20250828T161502Z
UID:10000559-1775039400-1775043000@elsahumc.org
SUMMARY:Adult Bible Study - Hartford
DESCRIPTION:Join us on Wednesdays at 10:30 AM at Hartford United Methodist Church as we enjoy fellowship and the in-depth study of the books of the Bible\, including a preview of the upcoming Sunday Sermon. We always have an open seat.
URL:https://elsahumc.org/event/adult-bible-study-hartford/2026-04-01/
LOCATION:Hartford United Methodist Church\, 405 S Delmar Avenue\, Hartford\, 62048\, United States
ATTACH;FMTTYPE=image/jpeg:https://elsahumc.org/wp-content/uploads/2025/08/bible-study-atl-thumb.jpg
END:VEVENT
BEGIN:VEVENT
DTSTART;TZID=America/Chicago:20260405T111500
DTEND;TZID=America/Chicago:20260405T121500
DTSTAMP:20260205T174846
CREATED:20251204T171619Z
LAST-MODIFIED:20251204T171718Z
UID:10001652-1775387700-1775391300@elsahumc.org
SUMMARY:Sunday Service - Hartford
DESCRIPTION:Join us on Sundays at 11:15 AM at Hartford United Methodist Church. We always have an open seat.
URL:https://elsahumc.org/event/sunday-service-hartford/2026-04-05/
LOCATION:Hartford United Methodist Church\, 405 S Delmar Avenue\, Hartford\, 62048\, United States
ATTACH;FMTTYPE=image/jpeg:https://elsahumc.org/wp-content/uploads/2025/12/mass-service-thumb.jpg
END:VEVENT
BEGIN:VEVENT
DTSTART;TZID=America/Chicago:20260408T103000
DTEND;TZID=America/Chicago:20260408T113000
DTSTAMP:20260205T174846
CREATED:20250828T154757Z
LAST-MODIFIED:20250828T161502Z
UID:10000560-1775644200-1775647800@elsahumc.org
SUMMARY:Adult Bible Study - Hartford
DESCRIPTION:Join us on Wednesdays at 10:30 AM at Hartford United Methodist Church as we enjoy fellowship and the in-depth study of the books of the Bible\, including a preview of the upcoming Sunday Sermon. We always have an open seat.
URL:https://elsahumc.org/event/adult-bible-study-hartford/2026-04-08/
LOCATION:Hartford United Methodist Church\, 405 S Delmar Avenue\, Hartford\, 62048\, United States
ATTACH;FMTTYPE=image/jpeg:https://elsahumc.org/wp-content/uploads/2025/08/bible-study-atl-thumb.jpg
END:VEVENT
BEGIN:VEVENT
DTSTART;TZID=America/Chicago:20260412T111500
DTEND;TZID=America/Chicago:20260412T121500
DTSTAMP:20260205T174846
CREATED:20251204T171619Z
LAST-MODIFIED:20251204T171718Z
UID:10001653-1775992500-1775996100@elsahumc.org
SUMMARY:Sunday Service - Hartford
DESCRIPTION:Join us on Sundays at 11:15 AM at Hartford United Methodist Church. We always have an open seat.
URL:https://elsahumc.org/event/sunday-service-hartford/2026-04-12/
LOCATION:Hartford United Methodist Church\, 405 S Delmar Avenue\, Hartford\, 62048\, United States
ATTACH;FMTTYPE=image/jpeg:https://elsahumc.org/wp-content/uploads/2025/12/mass-service-thumb.jpg
END:VEVENT
BEGIN:VEVENT
DTSTART;TZID=America/Chicago:20260415T103000
DTEND;TZID=America/Chicago:20260415T113000
DTSTAMP:20260205T174846
CREATED:20250828T154757Z
LAST-MODIFIED:20250828T161502Z
UID:10000561-1776249000-1776252600@elsahumc.org
SUMMARY:Adult Bible Study - Hartford
DESCRIPTION:Join us on Wednesdays at 10:30 AM at Hartford United Methodist Church as we enjoy fellowship and the in-depth study of the books of the Bible\, including a preview of the upcoming Sunday Sermon. We always have an open seat.
URL:https://elsahumc.org/event/adult-bible-study-hartford/2026-04-15/
LOCATION:Hartford United Methodist Church\, 405 S Delmar Avenue\, Hartford\, 62048\, United States
ATTACH;FMTTYPE=image/jpeg:https://elsahumc.org/wp-content/uploads/2025/08/bible-study-atl-thumb.jpg
END:VEVENT
BEGIN:VEVENT
DTSTART;TZID=America/Chicago:20260419T111500
DTEND;TZID=America/Chicago:20260419T121500
DTSTAMP:20260205T174846
CREATED:20251204T171619Z
LAST-MODIFIED:20251204T171718Z
UID:10001654-1776597300-1776600900@elsahumc.org
SUMMARY:Sunday Service - Hartford
DESCRIPTION:Join us on Sundays at 11:15 AM at Hartford United Methodist Church. We always have an open seat.
URL:https://elsahumc.org/event/sunday-service-hartford/2026-04-19/
LOCATION:Hartford United Methodist Church\, 405 S Delmar Avenue\, Hartford\, 62048\, United States
ATTACH;FMTTYPE=image/jpeg:https://elsahumc.org/wp-content/uploads/2025/12/mass-service-thumb.jpg
END:VEVENT
BEGIN:VEVENT
DTSTART;TZID=America/Chicago:20260422T103000
DTEND;TZID=America/Chicago:20260422T113000
DTSTAMP:20260205T174846
CREATED:20250828T154757Z
LAST-MODIFIED:20250828T161502Z
UID:10000562-1776853800-1776857400@elsahumc.org
SUMMARY:Adult Bible Study - Hartford
DESCRIPTION:Join us on Wednesdays at 10:30 AM at Hartford United Methodist Church as we enjoy fellowship and the in-depth study of the books of the Bible\, including a preview of the upcoming Sunday Sermon. We always have an open seat.
URL:https://elsahumc.org/event/adult-bible-study-hartford/2026-04-22/
LOCATION:Hartford United Methodist Church\, 405 S Delmar Avenue\, Hartford\, 62048\, United States
ATTACH;FMTTYPE=image/jpeg:https://elsahumc.org/wp-content/uploads/2025/08/bible-study-atl-thumb.jpg
END:VEVENT
BEGIN:VEVENT
DTSTART;TZID=America/Chicago:20260426T111500
DTEND;TZID=America/Chicago:20260426T121500
DTSTAMP:20260205T174846
CREATED:20251204T171619Z
LAST-MODIFIED:20251204T171718Z
UID:10001655-1777202100-1777205700@elsahumc.org
SUMMARY:Sunday Service - Hartford
DESCRIPTION:Join us on Sundays at 11:15 AM at Hartford United Methodist Church. We always have an open seat.
URL:https://elsahumc.org/event/sunday-service-hartford/2026-04-26/
LOCATION:Hartford United Methodist Church\, 405 S Delmar Avenue\, Hartford\, 62048\, United States
ATTACH;FMTTYPE=image/jpeg:https://elsahumc.org/wp-content/uploads/2025/12/mass-service-thumb.jpg
END:VEVENT
BEGIN:VEVENT
DTSTART;TZID=America/Chicago:20260429T103000
DTEND;TZID=America/Chicago:20260429T113000
DTSTAMP:20260205T174846
CREATED:20250828T154757Z
LAST-MODIFIED:20250828T161502Z
UID:10000563-1777458600-1777462200@elsahumc.org
SUMMARY:Adult Bible Study - Hartford
DESCRIPTION:Join us on Wednesdays at 10:30 AM at Hartford United Methodist Church as we enjoy fellowship and the in-depth study of the books of the Bible\, including a preview of the upcoming Sunday Sermon. We always have an open seat.
URL:https://elsahumc.org/event/adult-bible-study-hartford/2026-04-29/
LOCATION:Hartford United Methodist Church\, 405 S Delmar Avenue\, Hartford\, 62048\, United States
ATTACH;FMTTYPE=image/jpeg:https://elsahumc.org/wp-content/uploads/2025/08/bible-study-atl-thumb.jpg
END:VEVENT
BEGIN:VEVENT
DTSTART;TZID=America/Chicago:20260503T111500
DTEND;TZID=America/Chicago:20260503T121500
DTSTAMP:20260205T174846
CREATED:20251204T171619Z
LAST-MODIFIED:20251204T171718Z
UID:10001656-1777806900-1777810500@elsahumc.org
SUMMARY:Sunday Service - Hartford
DESCRIPTION:Join us on Sundays at 11:15 AM at Hartford United Methodist Church. We always have an open seat.
URL:https://elsahumc.org/event/sunday-service-hartford/2026-05-03/
LOCATION:Hartford United Methodist Church\, 405 S Delmar Avenue\, Hartford\, 62048\, United States
ATTACH;FMTTYPE=image/jpeg:https://elsahumc.org/wp-content/uploads/2025/12/mass-service-thumb.jpg
END:VEVENT
BEGIN:VEVENT
DTSTART;TZID=America/Chicago:20260506T103000
DTEND;TZID=America/Chicago:20260506T113000
DTSTAMP:20260205T174846
CREATED:20250828T154757Z
LAST-MODIFIED:20250828T161502Z
UID:10000564-1778063400-1778067000@elsahumc.org
SUMMARY:Adult Bible Study - Hartford
DESCRIPTION:Join us on Wednesdays at 10:30 AM at Hartford United Methodist Church as we enjoy fellowship and the in-depth study of the books of the Bible\, including a preview of the upcoming Sunday Sermon. We always have an open seat.
URL:https://elsahumc.org/event/adult-bible-study-hartford/2026-05-06/
LOCATION:Hartford United Methodist Church\, 405 S Delmar Avenue\, Hartford\, 62048\, United States
ATTACH;FMTTYPE=image/jpeg:https://elsahumc.org/wp-content/uploads/2025/08/bible-study-atl-thumb.jpg
END:VEVENT
BEGIN:VEVENT
DTSTART;TZID=America/Chicago:20260510T111500
DTEND;TZID=America/Chicago:20260510T121500
DTSTAMP:20260205T174846
CREATED:20251204T171619Z
LAST-MODIFIED:20251204T171718Z
UID:10001657-1778411700-1778415300@elsahumc.org
SUMMARY:Sunday Service - Hartford
DESCRIPTION:Join us on Sundays at 11:15 AM at Hartford United Methodist Church. We always have an open seat.
URL:https://elsahumc.org/event/sunday-service-hartford/2026-05-10/
LOCATION:Hartford United Methodist Church\, 405 S Delmar Avenue\, Hartford\, 62048\, United States
ATTACH;FMTTYPE=image/jpeg:https://elsahumc.org/wp-content/uploads/2025/12/mass-service-thumb.jpg
END:VEVENT
BEGIN:VEVENT
DTSTART;TZID=America/Chicago:20260513T103000
DTEND;TZID=America/Chicago:20260513T113000
DTSTAMP:20260205T174846
CREATED:20250828T154757Z
LAST-MODIFIED:20250828T161502Z
UID:10000565-1778668200-1778671800@elsahumc.org
SUMMARY:Adult Bible Study - Hartford
DESCRIPTION:Join us on Wednesdays at 10:30 AM at Hartford United Methodist Church as we enjoy fellowship and the in-depth study of the books of the Bible\, including a preview of the upcoming Sunday Sermon. We always have an open seat.
URL:https://elsahumc.org/event/adult-bible-study-hartford/2026-05-13/
LOCATION:Hartford United Methodist Church\, 405 S Delmar Avenue\, Hartford\, 62048\, United States
ATTACH;FMTTYPE=image/jpeg:https://elsahumc.org/wp-content/uploads/2025/08/bible-study-atl-thumb.jpg
END:VEVENT
BEGIN:VEVENT
DTSTART;TZID=America/Chicago:20260517T111500
DTEND;TZID=America/Chicago:20260517T121500
DTSTAMP:20260205T174846
CREATED:20251204T171619Z
LAST-MODIFIED:20251204T171718Z
UID:10001658-1779016500-1779020100@elsahumc.org
SUMMARY:Sunday Service - Hartford
DESCRIPTION:Join us on Sundays at 11:15 AM at Hartford United Methodist Church. We always have an open seat.
URL:https://elsahumc.org/event/sunday-service-hartford/2026-05-17/
LOCATION:Hartford United Methodist Church\, 405 S Delmar Avenue\, Hartford\, 62048\, United States
ATTACH;FMTTYPE=image/jpeg:https://elsahumc.org/wp-content/uploads/2025/12/mass-service-thumb.jpg
END:VEVENT
BEGIN:VEVENT
DTSTART;TZID=America/Chicago:20260520T103000
DTEND;TZID=America/Chicago:20260520T113000
DTSTAMP:20260205T174846
CREATED:20250828T154757Z
LAST-MODIFIED:20250828T161502Z
UID:10000566-1779273000-1779276600@elsahumc.org
SUMMARY:Adult Bible Study - Hartford
DESCRIPTION:Join us on Wednesdays at 10:30 AM at Hartford United Methodist Church as we enjoy fellowship and the in-depth study of the books of the Bible\, including a preview of the upcoming Sunday Sermon. We always have an open seat.
URL:https://elsahumc.org/event/adult-bible-study-hartford/2026-05-20/
LOCATION:Hartford United Methodist Church\, 405 S Delmar Avenue\, Hartford\, 62048\, United States
ATTACH;FMTTYPE=image/jpeg:https://elsahumc.org/wp-content/uploads/2025/08/bible-study-atl-thumb.jpg
END:VEVENT
END:VCALENDAR